BEGIN:VCALENDAR
VERSION:2.0
PRODID:-//Huntington Beach Concert Band - ECPv6.15.1.1//NONSGML v1.0//EN
CALSCALE:GREGORIAN
METHOD:PUBLISH
X-ORIGINAL-URL:https://hbconcertband.org
X-WR-CALDESC:Events for Huntington Beach Concert Band
REFRESH-INTERVAL;VALUE=DURATION:PT1H
X-Robots-Tag:noindex
X-PUBLISHED-TTL:PT1H
BEGIN:VTIMEZONE
TZID:America/Los_Angeles
BEGIN:DAYLIGHT
TZOFFSETFROM:-0800
TZOFFSETTO:-0700
TZNAME:PDT
DTSTART:20260308T100000
END:DAYLIGHT
BEGIN:STANDARD
TZOFFSETFROM:-0700
TZOFFSETTO:-0800
TZNAME:PST
DTSTART:20261101T090000
END:STANDARD
END:VTIMEZONE
BEGIN:VEVENT
DTSTART;TZID=America/Los_Angeles:20260726T170000
DTEND;TZID=America/Los_Angeles:20260726T183000
DTSTAMP:20260422T153614
CREATED:20250416T185713Z
LAST-MODIFIED:20260412T000439Z
UID:2363-1785085200-1785090600@hbconcertband.org
SUMMARY:Sunday in the Park Concert 5
DESCRIPTION:Navy Band SouthWest
URL:https://hbconcertband.org/event/sunday-in-the-park-concert-5/
LOCATION:Huntington Central Park East – Thomas Ridley Bandstand\, Central Park Dr\, Huntington Beach\, CA\, 92649\, United States
CATEGORIES:Summer Series Concerts at HB Central Park
END:VEVENT
BEGIN:VEVENT
DTSTART;TZID=America/Los_Angeles:20260802T170000
DTEND;TZID=America/Los_Angeles:20260802T183000
DTSTAMP:20260422T153614
CREATED:20250416T185806Z
LAST-MODIFIED:20260412T000457Z
UID:2365-1785690000-1785695400@hbconcertband.org
SUMMARY:Sunday in the Park Concert 6
DESCRIPTION:lousy little gods
URL:https://hbconcertband.org/event/sunday-in-the-park-concert-5-2/
LOCATION:Huntington Central Park East – Thomas Ridley Bandstand\, Central Park Dr\, Huntington Beach\, CA\, 92649\, United States
CATEGORIES:Summer Series Concerts at HB Central Park
END:VEVENT
BEGIN:VEVENT
DTSTART;TZID=America/Los_Angeles:20260809T170000
DTEND;TZID=America/Los_Angeles:20260809T183000
DTSTAMP:20260422T153614
CREATED:20250416T190026Z
LAST-MODIFIED:20260412T000515Z
UID:2367-1786294800-1786300200@hbconcertband.org
SUMMARY:Sunday in the Park Concert 7
DESCRIPTION:Huntington Beach Concert Band
URL:https://hbconcertband.org/event/sunday-in-the-park-concert-7/
LOCATION:Huntington Central Park East – Thomas Ridley Bandstand\, Central Park Dr\, Huntington Beach\, CA\, 92649\, United States
CATEGORIES:HBCB Concerts,Summer Series Concerts at HB Central Park
END:VEVENT
BEGIN:VEVENT
DTSTART;TZID=America/Los_Angeles:20260816T170000
DTEND;TZID=America/Los_Angeles:20260816T183000
DTSTAMP:20260422T153614
CREATED:20250416T190228Z
LAST-MODIFIED:20260412T000543Z
UID:2370-1786899600-1786905000@hbconcertband.org
SUMMARY:Sunday in the Park Concert 8
DESCRIPTION:3rd Marine Aircraft Wing Band
URL:https://hbconcertband.org/event/sunday-in-the-park-concert-8/
LOCATION:Huntington Central Park East – Thomas Ridley Bandstand\, Central Park Dr\, Huntington Beach\, CA\, 92649\, United States
CATEGORIES:Summer Series Concerts at HB Central Park
END:VEVENT
BEGIN:VEVENT
DTSTART;TZID=America/Los_Angeles:20260823T170000
DTEND;TZID=America/Los_Angeles:20260823T183000
DTSTAMP:20260422T153614
CREATED:20250416T190320Z
LAST-MODIFIED:20260412T000716Z
UID:2372-1787504400-1787509800@hbconcertband.org
SUMMARY:Sunday in the Park Concert 9
DESCRIPTION:The Wise Guys Big Band Machine
URL:https://hbconcertband.org/event/sunday-in-the-park-concert-9/
LOCATION:Huntington Central Park East – Thomas Ridley Bandstand\, Central Park Dr\, Huntington Beach\, CA\, 92649\, United States
CATEGORIES:Summer Series Concerts at HB Central Park
END:VEVENT
BEGIN:VEVENT
DTSTART;TZID=America/Los_Angeles:20260830T170000
DTEND;TZID=America/Los_Angeles:20260830T183000
DTSTAMP:20260422T153614
CREATED:20250416T190455Z
LAST-MODIFIED:20260412T000738Z
UID:2374-1788109200-1788114600@hbconcertband.org
SUMMARY:Sunday in the Park Concert 10
DESCRIPTION:Cruise Control
URL:https://hbconcertband.org/event/sunday-in-the-park-concert-10/
LOCATION:Huntington Central Park East – Thomas Ridley Bandstand\, Central Park Dr\, Huntington Beach\, CA\, 92649\, United States
CATEGORIES:Summer Series Concerts at HB Central Park
END:VEVENT
END:VCALENDAR